BEGIN:VCALENDAR
VERSION:2.0
PRODID:-//Little Giants Learning Academy - ECPv4.6.16//NONSGML v1.0//EN
CALSCALE:GREGORIAN
METHOD:PUBLISH
X-WR-CALNAME:Little Giants Learning Academy
X-ORIGINAL-URL:https://littlegiantslearning.com
X-WR-CALDESC:Events for Little Giants Learning Academy
BEGIN:VEVENT
DTSTART;VALUE=DATE:20200810
DTEND;VALUE=DATE:20200815
DTSTAMP:20260421T082100
CREATED:20200115T163611Z
LAST-MODIFIED:20200115T163611Z
UID:2192-1597017600-1597449599@littlegiantslearning.com
SUMMARY:Basket Raffle - Brookside
DESCRIPTION:
URL:https://littlegiantslearning.com/event/basket-raffle-brookside/
CATEGORIES:Calendar Only,Prospective Families, Events, Home
END:VEVENT
END:VCALENDAR